BEGIN:VCALENDAR
VERSION:2.0
PRODID:-//St. Georges Sports &amp; Social Club - ECPv6.15.14//NONSGML v1.0//EN
CALSCALE:GREGORIAN
METHOD:PUBLISH
X-WR-CALNAME:St. Georges Sports &amp; Social Club
X-ORIGINAL-URL:https://stgeorgessportandsocialclub.co.uk
X-WR-CALDESC:Events for St. Georges Sports &amp; Social Club
REFRESH-INTERVAL;VALUE=DURATION:PT1H
X-Robots-Tag:noindex
X-PUBLISHED-TTL:PT1H
BEGIN:VTIMEZONE
TZID:UTC
BEGIN:STANDARD
TZOFFSETFROM:+0000
TZOFFSETTO:+0000
TZNAME:UTC
DTSTART:20240101T000000
END:STANDARD
END:VTIMEZONE
BEGIN:VEVENT
DTSTART;TZID=UTC:20251220T210000
DTEND;TZID=UTC:20251220T230000
DTSTAMP:20260420T094439
CREATED:20250806T084139Z
LAST-MODIFIED:20250806T084139Z
UID:46554-1766264400-1766271600@stgeorgessportandsocialclub.co.uk
SUMMARY:Caroline Crystal
DESCRIPTION:
URL:https://stgeorgessportandsocialclub.co.uk/event/caroline-crystal/
LOCATION:St. Georges Sports & Social Club\, Church Street\, Telford\, TF29LU\, United Kingdom
CATEGORIES:Live Entertainment
ORGANIZER;CN="St Georges Sports and Social Club":MAILTO:info@stgeorgesclub.co.uk
END:VEVENT
BEGIN:VEVENT
DTSTART;TZID=UTC:20251206T210000
DTEND;TZID=UTC:20251206T230000
DTSTAMP:20260420T094439
CREATED:20250806T083925Z
LAST-MODIFIED:20250806T083925Z
UID:46552-1765054800-1765062000@stgeorgessportandsocialclub.co.uk
SUMMARY:Harmony Sisters
DESCRIPTION:
URL:https://stgeorgessportandsocialclub.co.uk/event/harmony-sisters-2/
LOCATION:St. Georges Sports & Social Club\, Church Street\, Telford\, TF29LU\, United Kingdom
CATEGORIES:Live Entertainment
ORGANIZER;CN="St Georges Sports and Social Club":MAILTO:info@stgeorgesclub.co.uk
END:VEVENT
BEGIN:VEVENT
DTSTART;TZID=UTC:20251129T210000
DTEND;TZID=UTC:20251129T230000
DTSTAMP:20260420T094439
CREATED:20250806T083838Z
LAST-MODIFIED:20250806T083838Z
UID:46550-1764450000-1764457200@stgeorgessportandsocialclub.co.uk
SUMMARY:Emily Abbiss
DESCRIPTION:
URL:https://stgeorgessportandsocialclub.co.uk/event/emily-abbiss/
LOCATION:St. Georges Sports & Social Club\, Church Street\, Telford\, TF29LU\, United Kingdom
CATEGORIES:Live Entertainment
ORGANIZER;CN="St Georges Sports and Social Club":MAILTO:info@stgeorgesclub.co.uk
END:VEVENT
BEGIN:VEVENT
DTSTART;TZID=UTC:20251115T210000
DTEND;TZID=UTC:20251115T230000
DTSTAMP:20260420T094439
CREATED:20250806T083758Z
LAST-MODIFIED:20250806T083758Z
UID:46548-1763240400-1763247600@stgeorgessportandsocialclub.co.uk
SUMMARY:Shaine Jeffery
DESCRIPTION:
URL:https://stgeorgessportandsocialclub.co.uk/event/shaine-jeffery/
LOCATION:St. Georges Sports & Social Club\, Church Street\, Telford\, TF29LU\, United Kingdom
CATEGORIES:Live Entertainment
ORGANIZER;CN="St Georges Sports and Social Club":MAILTO:info@stgeorgesclub.co.uk
END:VEVENT
BEGIN:VEVENT
DTSTART;TZID=UTC:20251101T210000
DTEND;TZID=UTC:20251101T230000
DTSTAMP:20260420T094439
CREATED:20250806T083601Z
LAST-MODIFIED:20250806T083601Z
UID:46546-1762030800-1762038000@stgeorgessportandsocialclub.co.uk
SUMMARY:Sven
DESCRIPTION:
URL:https://stgeorgessportandsocialclub.co.uk/event/sven/
LOCATION:St. Georges Sports & Social Club\, Church Street\, Telford\, TF29LU\, United Kingdom
CATEGORIES:Live Entertainment
ORGANIZER;CN="St Georges Sports and Social Club":MAILTO:info@stgeorgesclub.co.uk
END:VEVENT
BEGIN:VEVENT
DTSTART;TZID=UTC:20251025T210000
DTEND;TZID=UTC:20251025T230000
DTSTAMP:20260420T094439
CREATED:20250806T083448Z
LAST-MODIFIED:20250806T083653Z
UID:46544-1761426000-1761433200@stgeorgessportandsocialclub.co.uk
SUMMARY:Kev Thursfield
DESCRIPTION:
URL:https://stgeorgessportandsocialclub.co.uk/event/kev-thursfield/
LOCATION:St. Georges Sports & Social Club\, Church Street\, Telford\, TF29LU\, United Kingdom
CATEGORIES:Live Entertainment
ORGANIZER;CN="St Georges Sports and Social Club":MAILTO:info@stgeorgesclub.co.uk
END:VEVENT
BEGIN:VEVENT
DTSTART;TZID=UTC:20250920T210000
DTEND;TZID=UTC:20250920T230000
DTSTAMP:20260420T094439
CREATED:20250806T083416Z
LAST-MODIFIED:20250806T083622Z
UID:46542-1758402000-1758409200@stgeorgessportandsocialclub.co.uk
SUMMARY:Dan Edwards
DESCRIPTION:
URL:https://stgeorgessportandsocialclub.co.uk/event/dan-edwards/
LOCATION:St. Georges Sports & Social Club\, Church Street\, Telford\, TF29LU\, United Kingdom
CATEGORIES:Live Entertainment
ORGANIZER;CN="St Georges Sports and Social Club":MAILTO:info@stgeorgesclub.co.uk
END:VEVENT
BEGIN:VEVENT
DTSTART;TZID=UTC:20250906T210000
DTEND;TZID=UTC:20250906T230000
DTSTAMP:20260420T094439
CREATED:20250806T083341Z
LAST-MODIFIED:20250806T083341Z
UID:46540-1757192400-1757199600@stgeorgessportandsocialclub.co.uk
SUMMARY:Harmony Sisters
DESCRIPTION:
URL:https://stgeorgessportandsocialclub.co.uk/event/harmony-sisters/
LOCATION:St. Georges Sports & Social Club\, Church Street\, Telford\, TF29LU\, United Kingdom
CATEGORIES:Live Entertainment
ORGANIZER;CN="St Georges Sports and Social Club":MAILTO:info@stgeorgesclub.co.uk
END:VEVENT
BEGIN:VEVENT
DTSTART;VALUE=DATE:20250824
DTEND;VALUE=DATE:20250825
DTSTAMP:20260420T094439
CREATED:20250416T145854Z
LAST-MODIFIED:20250416T151407Z
UID:46371-1755993600-1756079999@stgeorgessportandsocialclub.co.uk
SUMMARY:SummerFest 25
DESCRIPTION:This year’s fantastic line up now all confirmed: \n\nSutty\nDave George\nThe Loveless\nBackbeat\nCallum & the Pookies\n\n  \nIt’s going to be bigger and better than ever!
URL:https://stgeorgessportandsocialclub.co.uk/event/summerfest-25/
LOCATION:St. Georges Sports & Social Club\, Church Street\, Telford\, TF29LU\, United Kingdom
CATEGORIES:Family Fun
ATTACH;FMTTYPE=image/jpeg:https://stgeorgessportandsocialclub.co.uk/wp-content/uploads/2025/04/Summerfest-25-scaled.jpg
ORGANIZER;CN="St Georges Sports and Social Club":MAILTO:info@stgeorgesclub.co.uk
END:VEVENT
END:VCALENDAR